BEGIN:VCALENDAR
VERSION:2.0
PRODID:-//Lake Maloney Golf Club - ECPv6.15.20//NONSGML v1.0//EN
CALSCALE:GREGORIAN
METHOD:PUBLISH
X-ORIGINAL-URL:http://lakemaloneygolf.com
X-WR-CALDESC:Events for Lake Maloney Golf Club
REFRESH-INTERVAL;VALUE=DURATION:PT1H
X-Robots-Tag:noindex
X-PUBLISHED-TTL:PT1H
BEGIN:VTIMEZONE
TZID:UTC
BEGIN:STANDARD
TZOFFSETFROM:+0000
TZOFFSETTO:+0000
TZNAME:UTC
DTSTART:20240101T000000
END:STANDARD
END:VTIMEZONE
BEGIN:VEVENT
DTSTART;TZID=UTC:20251204T160000
DTEND;TZID=UTC:20251204T200000
DTSTAMP:20260424T161230
CREATED:20251202T185525Z
LAST-MODIFIED:20251202T185525Z
UID:52348-1764864000-1764878400@lakemaloneygolf.com
SUMMARY:Happy Hour - Taco Bar
DESCRIPTION:Happy Hour at Lake Maloney Golf Club! \nWe are so excited to welcome you to our Happy Hour on Thursday\, December 4th\, from 4:00 PM – 8:00 PM. \n  \nFREE Taco Bar to satisfy your cravings\n Dani’s World Famous Margaritas (and other great Drink Specials)\nWalk-In Pitch Tournament starting at 4:00 PM \nAll skill levels are welcome. \nIt’s the perfect way to unwind\, enjoy some great food\,  \nand celebrate the return of our Happy Hours! \nWe can’t wait to see you all there!
URL:http://lakemaloneygolf.com/event-schedule/happy-hour-taco-bar-4/
END:VEVENT
END:VCALENDAR