BEGIN:VCALENDAR
VERSION:2.0
PRODID:-//Lake Maloney Golf Club - ECPv6.15.20//NONSGML v1.0//EN
CALSCALE:GREGORIAN
METHOD:PUBLISH
X-ORIGINAL-URL:http://lakemaloneygolf.com
X-WR-CALDESC:Events for Lake Maloney Golf Club
REFRESH-INTERVAL;VALUE=DURATION:PT1H
X-Robots-Tag:noindex
X-PUBLISHED-TTL:PT1H
BEGIN:VTIMEZONE
TZID:UTC
BEGIN:STANDARD
TZOFFSETFROM:+0000
TZOFFSETTO:+0000
TZNAME:UTC
DTSTART:20220101T000000
END:STANDARD
END:VTIMEZONE
BEGIN:VEVENT
DTSTART;TZID=UTC:20230331T170000
DTEND;TZID=UTC:20230331T220000
DTSTAMP:20260423T114015
CREATED:20230308T162906Z
LAST-MODIFIED:20230308T163820Z
UID:50756-1680282000-1680300000@lakemaloneygolf.com
SUMMARY:2023 Golf Kick-Off Party
DESCRIPTION:Join us for our 2023 Golf Kick-Off Party Friday\, March 31st\, 2023 Social @ 5 PM | Dinner 6 PM \nThis event is open to all Members & Guests. \nCall to RSVP! 308-532-9998 \nThe deadline to sign up is March 27th
URL:http://lakemaloneygolf.com/event-schedule/2023-golf-kick-off-party/
LOCATION:Lake Maloney\, 608 Birdie Ln\, North Platte\, NE\, 691010\, United States
CATEGORIES:2023 Golf Kick Off Party
ATTACH;FMTTYPE=image/png:http://lakemaloneygolf.com/wp-content/uploads/2023/03/Lake-Maloney-Kick-Off-Party-Blog.webp
END:VEVENT
END:VCALENDAR