BEGIN:VCALENDAR
VERSION:2.0
PRODID:-//Lake Maloney Golf Club - ECPv6.15.20//NONSGML v1.0//EN
CALSCALE:GREGORIAN
METHOD:PUBLISH
X-ORIGINAL-URL:https://lakemaloneygolf.com
X-WR-CALDESC:Events for Lake Maloney Golf Club
REFRESH-INTERVAL;VALUE=DURATION:PT1H
X-Robots-Tag:noindex
X-PUBLISHED-TTL:PT1H
BEGIN:VTIMEZONE
TZID:UTC
BEGIN:STANDARD
TZOFFSETFROM:+0000
TZOFFSETTO:+0000
TZNAME:UTC
DTSTART:20220101T000000
END:STANDARD
END:VTIMEZONE
BEGIN:VEVENT
DTSTART;TZID=UTC:20230327T080000
DTEND;TZID=UTC:20230416T180000
DTSTAMP:20260419T210545
CREATED:20230327T173313Z
LAST-MODIFIED:20230327T173313Z
UID:50785-1679904000-1681668000@lakemaloneygolf.com
SUMMARY:Season Opening Golf Special
DESCRIPTION:Season Opening Golf Special is here!\nLake Maloney Golf Club is giving you some great golf at an even better price!\nBook your Tee Time Today!
URL:https://lakemaloneygolf.com/event-schedule/season-opening-golf-special/
ATTACH;FMTTYPE=image/png:https://lakemaloneygolf.com/wp-content/uploads/2023/03/Lake-Maloney-Golf-Special-1200-×-675-px.webp
END:VEVENT
END:VCALENDAR