BEGIN:VCALENDAR
VERSION:2.0
PRODID:-//Lake Maloney Golf Club - ECPv6.15.20//NONSGML v1.0//EN
CALSCALE:GREGORIAN
METHOD:PUBLISH
X-ORIGINAL-URL:https://lakemaloneygolf.com
X-WR-CALDESC:Events for Lake Maloney Golf Club
REFRESH-INTERVAL;VALUE=DURATION:PT1H
X-Robots-Tag:noindex
X-PUBLISHED-TTL:PT1H
BEGIN:VTIMEZONE
TZID:UTC
BEGIN:STANDARD
TZOFFSETFROM:+0000
TZOFFSETTO:+0000
TZNAME:UTC
DTSTART:20230101T000000
END:STANDARD
END:VTIMEZONE
BEGIN:VEVENT
DTSTART;TZID=UTC:20241219T160000
DTEND;TZID=UTC:20241219T200000
DTSTAMP:20260425T022602
CREATED:20241217T173031Z
LAST-MODIFIED:20241217T173031Z
UID:51930-1734624000-1734638400@lakemaloneygolf.com
SUMMARY:Happy Hour
DESCRIPTION:JOIN US FOR HAPPY HOUR THIS WEEK \nThursday\, December 19th • 4:00 – 8:00pm \n• • • • • • • • •  \n\nFree Chili and Cinnamon Rolls & Drink Specials
URL:https://lakemaloneygolf.com/event-schedule/happy-hour-19/
END:VEVENT
END:VCALENDAR