BEGIN:VCALENDAR
VERSION:2.0
PRODID:-//Lake Maloney Golf Club - ECPv6.15.20//NONSGML v1.0//EN
CALSCALE:GREGORIAN
METHOD:PUBLISH
X-WR-CALNAME:Lake Maloney Golf Club
X-ORIGINAL-URL:https://lakemaloneygolf.com
X-WR-CALDESC:Events for Lake Maloney Golf Club
REFRESH-INTERVAL;VALUE=DURATION:PT1H
X-Robots-Tag:noindex
X-PUBLISHED-TTL:PT1H
BEGIN:VTIMEZONE
TZID:UTC
BEGIN:STANDARD
TZOFFSETFROM:+0000
TZOFFSETTO:+0000
TZNAME:UTC
DTSTART:20240101T000000
END:STANDARD
END:VTIMEZONE
BEGIN:VEVENT
DTSTART;TZID=UTC:20250403T181500
DTEND;TZID=UTC:20250403T191500
DTSTAMP:20260422T003927
CREATED:20250311T172825Z
LAST-MODIFIED:20250311T172825Z
UID:52120-1743704100-1743707700@lakemaloneygolf.com
SUMMARY:Spring Tune-Up Clinics - Men's
DESCRIPTION:Spring Tune-Up Clinics \n• • • • • • • • • • • • • • • •  \nMarch is here and it looks like the weather might be turning for the better and we all know what that means…GOLF SEASON!! \nAs the golf season is upon us\, I would like to offer spring clinics for both men and women. These would be a series of four (4) one (1) hour sessions to get back into the “SWING” of things. \nGreat way to prepare for league play! \nWeek #1 – Putting \nWeek #2 – Chipping/Pitching \nWeek #3 – Irons \nWeek #4 – Woods \nSession Time: 6:15pm – 7:15pm \n$60 per session or $200 for all (4) sessions \n  \nMen’s Schedule: \n• • • • • • • • • • • • • • • •  \nWeek #1 – March 27th \nWeek #2 – April 3rd \nWeek #3 – April 10th \nWeek #4 – April 17th \n  \nLimited to the first 10 members! Click here to sign-up with the Pro Shop.
URL:https://lakemaloneygolf.com/event-schedule/spring-tune-up-clinics-mens-2/
END:VEVENT
END:VCALENDAR