BEGIN:VCALENDAR
VERSION:2.0
PRODID:-//Lake Maloney Golf Club - ECPv6.15.20//NONSGML v1.0//EN
CALSCALE:GREGORIAN
METHOD:PUBLISH
X-ORIGINAL-URL:https://lakemaloneygolf.com
X-WR-CALDESC:Events for Lake Maloney Golf Club
REFRESH-INTERVAL;VALUE=DURATION:PT1H
X-Robots-Tag:noindex
X-PUBLISHED-TTL:PT1H
BEGIN:VTIMEZONE
TZID:UTC
BEGIN:STANDARD
TZOFFSETFROM:+0000
TZOFFSETTO:+0000
TZNAME:UTC
DTSTART:20240101T000000
END:STANDARD
END:VTIMEZONE
BEGIN:VEVENT
DTSTART;TZID=UTC:20250503T090000
DTEND;TZID=UTC:20250503T170000
DTSTAMP:20260422T035706
CREATED:20250410T111638Z
LAST-MODIFIED:20250410T111638Z
UID:52200-1746262800-1746291600@lakemaloneygolf.com
SUMMARY:2025 Eagle Golf Classic
DESCRIPTION:2025 Eagle Radio Golf Classic \nSaturday\, May 3rd • 10am Shotgun Start \n• • • • • • • • • • \n\nCheck in will begin at 9:00am • 4 Person Teams \n\nEntry fee: $280/team  \nincludes lunch and cart fee \n\nPrizes Include: \nFlag and flight cash prizes\, hole in one grand prize \n\nportion of proceeds will go to the Salvation Army \n\nCall the Clubhouse at (308) 532-9998 to register today!  \nRegistration deadline is Saturday\, April 27th.
URL:https://lakemaloneygolf.com/event-schedule/2025-eagle-golf-classic/
END:VEVENT
END:VCALENDAR