BEGIN:VCALENDAR
VERSION:2.0
PRODID:-//Lake Maloney Golf Club - ECPv6.15.20//NONSGML v1.0//EN
CALSCALE:GREGORIAN
METHOD:PUBLISH
X-ORIGINAL-URL:https://lakemaloneygolf.com
X-WR-CALDESC:Events for Lake Maloney Golf Club
REFRESH-INTERVAL;VALUE=DURATION:PT1H
X-Robots-Tag:noindex
X-PUBLISHED-TTL:PT1H
BEGIN:VTIMEZONE
TZID:UTC
BEGIN:STANDARD
TZOFFSETFROM:+0000
TZOFFSETTO:+0000
TZNAME:UTC
DTSTART:20240101T000000
END:STANDARD
END:VTIMEZONE
BEGIN:VEVENT
DTSTART;TZID=UTC:20250608T090000
DTEND;TZID=UTC:20250608T170000
DTSTAMP:20260422T143908
CREATED:20250227T141404Z
LAST-MODIFIED:20250504T224841Z
UID:52071-1749373200-1749402000@lakemaloneygolf.com
SUMMARY:MGA 2-Man Scramble
DESCRIPTION:Best Ball • Scramble • Alternate Shot \nSunday\, June 8 \n9:00 am shotgun start \n\nTwo Person Teams \n65 and older from the Green Tees \n80 and older from the Red Tees \n\n$30 MGA MEMBERS \n$40 NON-MGA MEMBERS \n\nCONTACT THE GOLF SHOP TO REGISTER  \nwww.lakemaloneygolf.com | (308) 532-9998
URL:https://lakemaloneygolf.com/event-schedule/mga-2-man-scramble/
END:VEVENT
END:VCALENDAR