BEGIN:VCALENDAR
VERSION:2.0
PRODID:-//Lake Maloney Golf Club - ECPv6.15.20//NONSGML v1.0//EN
CALSCALE:GREGORIAN
METHOD:PUBLISH
X-WR-CALNAME:Lake Maloney Golf Club
X-ORIGINAL-URL:https://lakemaloneygolf.com
X-WR-CALDESC:Events for Lake Maloney Golf Club
REFRESH-INTERVAL;VALUE=DURATION:PT1H
X-Robots-Tag:noindex
X-PUBLISHED-TTL:PT1H
BEGIN:VTIMEZONE
TZID:UTC
BEGIN:STANDARD
TZOFFSETFROM:+0000
TZOFFSETTO:+0000
TZNAME:UTC
DTSTART:20250101T000000
END:STANDARD
END:VTIMEZONE
BEGIN:VEVENT
DTSTART;VALUE=DATE:20260217
DTEND;VALUE=DATE:20260218
DTSTAMP:20260424T122657
CREATED:20260202T183707Z
LAST-MODIFIED:20260202T183753Z
UID:52374-1771286400-1771372799@lakemaloneygolf.com
SUMMARY:2026 League Registration Opens
DESCRIPTION:2026 Golf Leagues  \nRegistration opens Tuesday\, February 17th \n• • • • • • • • • • • • • • • •  \n ~ 15 weeks of play ~ \nMembers have seniority over non-members over league play \nNon-members must pay the full 15 weeks of green fees and  \ncart rental prior to play to be eligible for league \nSign up early as leagues fill up quickly and spots are limited. \nRegister by calling the clubhouse at 308-532-9998 today!
URL:https://lakemaloneygolf.com/event-schedule/2026-league-registration-opens/
CATEGORIES:Adult Golf
END:VEVENT
END:VCALENDAR