BEGIN:VCALENDAR
VERSION:2.0
PRODID:-//Lake Maloney Golf Club - ECPv6.15.20//NONSGML v1.0//EN
CALSCALE:GREGORIAN
METHOD:PUBLISH
X-ORIGINAL-URL:https://lakemaloneygolf.com
X-WR-CALDESC:Events for Lake Maloney Golf Club
REFRESH-INTERVAL;VALUE=DURATION:PT1H
X-Robots-Tag:noindex
X-PUBLISHED-TTL:PT1H
BEGIN:VTIMEZONE
TZID:UTC
BEGIN:STANDARD
TZOFFSETFROM:+0000
TZOFFSETTO:+0000
TZNAME:UTC
DTSTART:20250101T000000
END:STANDARD
END:VTIMEZONE
BEGIN:VEVENT
DTSTART;TZID=UTC:20260424T173000
DTEND;TZID=UTC:20260424T210000
DTSTAMP:20260422T181226
CREATED:20260415T160020Z
LAST-MODIFIED:20260415T160020Z
UID:52429-1777051800-1777064400@lakemaloneygolf.com
SUMMARY:Wednesday Men's League Dinner & Calcutta
DESCRIPTION:Wednesday Men’s League Dinner & Calcutta  \nFriday\, April 24th\, 2026 \n• • • • • • • • • • \nSocial at 5:30 • Dinner at 6:30 \nChicken Fried Steak Dinner • $20.00 per plate \nCalcutta will follow dinner. \n\nRSVP by calling The Clubhouse at 308-532-9998. \nSpots are limited. RSVP for dinner by Tuesday\, April 21st.
URL:https://lakemaloneygolf.com/event-schedule/wednesday-mens-league-dinner-calcutta/
CATEGORIES:Tournament
ATTACH;FMTTYPE=image/png:https://lakemaloneygolf.com/wp-content/uploads/2026/04/Lake-Maloney-Mens-League-Dinner-Calcutta-blog.png
END:VEVENT
END:VCALENDAR