BEGIN:VCALENDAR
VERSION:2.0
PRODID:-//Lake Maloney Golf Club - ECPv6.15.20//NONSGML v1.0//EN
CALSCALE:GREGORIAN
METHOD:PUBLISH
X-ORIGINAL-URL:https://lakemaloneygolf.com
X-WR-CALDESC:Events for Lake Maloney Golf Club
REFRESH-INTERVAL;VALUE=DURATION:PT1H
X-Robots-Tag:noindex
X-PUBLISHED-TTL:PT1H
BEGIN:VTIMEZONE
TZID:UTC
BEGIN:STANDARD
TZOFFSETFROM:+0000
TZOFFSETTO:+0000
TZNAME:UTC
DTSTART:20230101T000000
END:STANDARD
END:VTIMEZONE
BEGIN:VEVENT
DTSTART;TZID=UTC:20240601T100000
DTEND;TZID=UTC:20240601T170000
DTSTAMP:20260423T093852
CREATED:20240430T112705Z
LAST-MODIFIED:20240430T112705Z
UID:51613-1717236000-1717261200@lakemaloneygolf.com
SUMMARY:Tatman Memorial
DESCRIPTION:4th Annual Tatman Memorial Tournament  \nSaturday\, June 1st • 10am Shotgun Start  \n• • • • • • • • • •  \nFour Person Golf Scramble   \nEntry Fee • $400  per team \nincludes AMAZING flag prizes and Hole in One  Prize by McNew Unlimited  \nCALL THE PROP SHOP TO REGISTER TODAY AT (308) 532-9998
URL:https://lakemaloneygolf.com/event-schedule/tatman-memorial-2/
END:VEVENT
BEGIN:VEVENT
DTSTART;TZID=UTC:20240608T063000
DTEND;TZID=UTC:20240608T220000
DTSTAMP:20260423T093852
CREATED:20240507T162413Z
LAST-MODIFIED:20240507T162413Z
UID:51628-1717828200-1717884000@lakemaloneygolf.com
SUMMARY:Glow Ball Par 3 Tournament
DESCRIPTION:Glow Ball Par 3 Golf Tournament \n  \nSaturday\, June  8th • 21+ event only \n  \n• • • • • • • • • • \n  \n7:30pm Dinner & Auction • 9pm Shotgun \n  \nPar 3 Course • Prizes & Fun \n  \n$120 Entry Fee per Team \n  \nRegister with the Clubhouse today at (308) 532-9998 \n  \nProceeds benefit North Platte’s Ice Skating Rink 
URL:https://lakemaloneygolf.com/event-schedule/glow-ball-par-3-tournament/
END:VEVENT
BEGIN:VEVENT
DTSTART;VALUE=DATE:20240609
DTEND;VALUE=DATE:20240610
DTSTAMP:20260423T093852
CREATED:20240125T183415Z
LAST-MODIFIED:20240125T183415Z
UID:51315-1717891200-1717977599@lakemaloneygolf.com
SUMMARY:MGA 6/6/6 2 Man Best Ball\, Scramble and Modified Alternate Shot
DESCRIPTION:
URL:https://lakemaloneygolf.com/event-schedule/mga-6-6-6-2-man-best-ball-scramble-and-modified-alternate-shot/
END:VEVENT
BEGIN:VEVENT
DTSTART;TZID=UTC:20240609T090000
DTEND;TZID=UTC:20240609T170000
DTSTAMP:20260423T093852
CREATED:20240519T150015Z
LAST-MODIFIED:20240519T150015Z
UID:51660-1717923600-1717952400@lakemaloneygolf.com
SUMMARY:MGA 6-6-6 Tournament
DESCRIPTION:Best Ball • Scramble • Alternate Shot  \nSunday\, June 9  • 9:00 am shotgun start \n  \nTwo Person Teams \n65 and older from the Green Tees  \n80 and older from the Red Tees \n  \n$25 MGA MEMBERS \n$35 NON-MGA MEMBERS \n \nCONTACT THE GOLF SHOP TO REGISTER \nwww.lakemaloneygolf.com | (308) 532-9998
URL:https://lakemaloneygolf.com/event-schedule/mga-6-6-6-tournament/
END:VEVENT
BEGIN:VEVENT
DTSTART;TZID=UTC:20240629T190000
DTEND;TZID=UTC:20240630T170000
DTSTAMP:20260423T093852
CREATED:20240605T110730Z
LAST-MODIFIED:20240605T110730Z
UID:51676-1719687600-1719766800@lakemaloneygolf.com
SUMMARY:23RD ANNUAL EAGLES GOLF TOURNAMENT
DESCRIPTION:23RD ANNUAL EAGLES GOLF TOURNAMENT  \nJune 29th and Sunday\, June 30th  \n• • • • • • • • • • \n  \nEntry Fee: $400 per team with carts included  \nSaturday at 7:00pm:  \nPrime Rib and Shrimp Dinner  \nCalcutta and Auction after Dinner \n  \nSunday 10am Shotgun:  \n4-Man Scramble  \n3 Flights Paid Out  \nCalcutta and Skins Game Payout  \nHole Prizes on Every Hole \n  \nCall Chuck Wendt at 308-520-4330 or The Clubhouse at 308-532-9998 to reserve your spot.
URL:https://lakemaloneygolf.com/event-schedule/23rd-annual-eagles-golf-tournament/
END:VEVENT
END:VCALENDAR