BEGIN:VCALENDAR
VERSION:2.0
PRODID:-//Lake Maloney Golf Club - ECPv6.15.20//NONSGML v1.0//EN
CALSCALE:GREGORIAN
METHOD:PUBLISH
X-ORIGINAL-URL:https://lakemaloneygolf.com
X-WR-CALDESC:Events for Lake Maloney Golf Club
REFRESH-INTERVAL;VALUE=DURATION:PT1H
X-Robots-Tag:noindex
X-PUBLISHED-TTL:PT1H
BEGIN:VTIMEZONE
TZID:UTC
BEGIN:STANDARD
TZOFFSETFROM:+0000
TZOFFSETTO:+0000
TZNAME:UTC
DTSTART:20240101T000000
END:STANDARD
END:VTIMEZONE
BEGIN:VEVENT
DTSTART;VALUE=DATE:20250127
DTEND;VALUE=DATE:20250301
DTSTAMP:20260421T225257
CREATED:20250126T221852Z
LAST-MODIFIED:20250126T221852Z
UID:51981-1737936000-1740787199@lakemaloneygolf.com
SUMMARY:Closeout Merchandise Sale
DESCRIPTION:Closeout Merchandise Sale \nJanuary 27th – February 28th  \n• • • • • • • • • • • • • • • •  \n  \nStock up and Save in the Clubhouse today • up to 50% \n\n50% off in stock gloves \n50% off in stock sunglasses \n50% off in stock Lamkin Grips \n50% off in stock Shoes \n35% off in stock Clothing and Hats \n25% off in stock Callaway and Mizuno Bags \n\noffer valid while supplies last • cannot combine with other offers
URL:https://lakemaloneygolf.com/event-schedule/closeout-merchandise-sale/
END:VEVENT
BEGIN:VEVENT
DTSTART;TZID=UTC:20250206T160000
DTEND;TZID=UTC:20250206T200000
DTSTAMP:20260421T225257
CREATED:20250203T195138Z
LAST-MODIFIED:20250203T195138Z
UID:52028-1738857600-1738872000@lakemaloneygolf.com
SUMMARY:Happy Hour
DESCRIPTION:JOIN US FOR HAPPY HOUR THIS WEEK \nThursday\, February 6th • 4:00 – 8:00pm \n• • • • • • • • •  \n\nFree Chili and Cinnamon Rolls \nwith Drink Specials
URL:https://lakemaloneygolf.com/event-schedule/happy-hour-24/
END:VEVENT
BEGIN:VEVENT
DTSTART;TZID=UTC:20250213T160000
DTEND;TZID=UTC:20250213T200000
DTSTAMP:20260421T225257
CREATED:20250212T115234Z
LAST-MODIFIED:20250212T115234Z
UID:52045-1739462400-1739476800@lakemaloneygolf.com
SUMMARY:Happy Hour
DESCRIPTION:JOIN US FOR HAPPY HOUR THIS WEEK \n  \nThursday\, Februry 13th • 4:00 – 8:00pm \n  \n• • • • • • • • •  \n  \nFree Pulled Pork Sliders and Drink Specials
URL:https://lakemaloneygolf.com/event-schedule/happy-hour-25/
END:VEVENT
BEGIN:VEVENT
DTSTART;TZID=UTC:20250227T160000
DTEND;TZID=UTC:20250227T200000
DTSTAMP:20260421T225257
CREATED:20250225T184013Z
LAST-MODIFIED:20250225T184013Z
UID:52062-1740672000-1740686400@lakemaloneygolf.com
SUMMARY:Happy Hour
DESCRIPTION:JOIN US FOR HAPPY HOUR THIS WEEK \nThursday\, February 27th• 4:00 – 8:00pm \n• • • • • • • • •  \n\nFree Taco Bar \nMargarita Specials
URL:https://lakemaloneygolf.com/event-schedule/happy-hour-26/
END:VEVENT
END:VCALENDAR