BEGIN:VCALENDAR
VERSION:2.0
PRODID:-//Lake Maloney Golf Club - ECPv6.15.20//NONSGML v1.0//EN
CALSCALE:GREGORIAN
METHOD:PUBLISH
X-ORIGINAL-URL:https://lakemaloneygolf.com
X-WR-CALDESC:Events for Lake Maloney Golf Club
REFRESH-INTERVAL;VALUE=DURATION:PT1H
X-Robots-Tag:noindex
X-PUBLISHED-TTL:PT1H
BEGIN:VTIMEZONE
TZID:UTC
BEGIN:STANDARD
TZOFFSETFROM:+0000
TZOFFSETTO:+0000
TZNAME:UTC
DTSTART:20240101T000000
END:STANDARD
END:VTIMEZONE
BEGIN:VEVENT
DTSTART;TZID=UTC:20250306T160000
DTEND;TZID=UTC:20250306T200000
DTSTAMP:20260423T091841
CREATED:20250304T202158Z
LAST-MODIFIED:20250304T202158Z
UID:52093-1741276800-1741291200@lakemaloneygolf.com
SUMMARY:Happy Hour
DESCRIPTION:JOIN US FOR HAPPY HOUR THIS WEEK \n  \nThursday\, March 6th • 4:00 – 8:00pm \n  \n• • • • • • • • •  \n  \nFree Chili and Cinnamon and Drink Specials
URL:https://lakemaloneygolf.com/event-schedule/happy-hour-27/
END:VEVENT
BEGIN:VEVENT
DTSTART;TZID=UTC:20250313T160000
DTEND;TZID=UTC:20250313T200000
DTSTAMP:20260423T091841
CREATED:20250311T175406Z
LAST-MODIFIED:20250311T175406Z
UID:52128-1741881600-1741896000@lakemaloneygolf.com
SUMMARY:Last Happy Hour
DESCRIPTION:LAST HAPPY HOUR OF THE SEASON \n  \nThursday\, March 13th • 4:00 – 8:00pm \n  \n• • • • • • • • •  \n  \nFree Taco Bar \n  \nMargarita Specials
URL:https://lakemaloneygolf.com/event-schedule/last-happy-hour/
END:VEVENT
BEGIN:VEVENT
DTSTART;TZID=UTC:20250325T061500
DTEND;TZID=UTC:20250325T191500
DTSTAMP:20260423T091841
CREATED:20250311T172329Z
LAST-MODIFIED:20250311T172329Z
UID:52108-1742883300-1742930100@lakemaloneygolf.com
SUMMARY:Spring Tune-Up Clinics - Ladies Clinic
DESCRIPTION:Spring Tune-Up Clinics \n• • • • • • • • • • • • • • • •  \n\nMarch is here and it looks like the weather might be turning for \nthe better and we all know what that means…GOLF SEASON!! \n\nAs the golf season is upon us\, I would like to offer spring clinics for \nboth men and women. These would be a series of four (4) one (1) \n hour sessions to get back into the “SWING” of things. \nGreat way to prepare for league play! \nWeek #1 – Putting \nWeek #2 – Chipping/Pitching \nWeek #3 – Irons \nWeek #4 – Woods \nSession Time: 6:15pm – 7:15pm \n$60 per session or $200 for all (4) sessions \n  \nLadies’ Schedule: \n• • • • • • • • • • • • • • • •  \nWeek #1 – March 25th \nWeek #2 – April 1st \nWeek #3 – April 8th \nWeek #4 – April 15th \n  \nLimited to the first 10 members! Click here to sign-up with the Pro Shop.
URL:https://lakemaloneygolf.com/event-schedule/spring-tune-up-clinics-ladies-clinic/
END:VEVENT
BEGIN:VEVENT
DTSTART;TZID=UTC:20250327T181500
DTEND;TZID=UTC:20250327T191500
DTSTAMP:20260423T091841
CREATED:20250311T172720Z
LAST-MODIFIED:20250311T172720Z
UID:52118-1743099300-1743102900@lakemaloneygolf.com
SUMMARY:Spring Tune-Up Clinics - Mens
DESCRIPTION:Spring Tune-Up Clinics \n• • • • • • • • • • • • • • • •  \nMarch is here and it looks like the weather might be turning for the better and we all know what that means…GOLF SEASON!! \nAs the golf season is upon us\, I would like to offer spring clinics for both men and women. These would be a series of four (4) one (1) hour sessions to get back into the “SWING” of things. \nGreat way to prepare for league play! \nWeek #1 – Putting \nWeek #2 – Chipping/Pitching \nWeek #3 – Irons \nWeek #4 – Woods \nSession Time: 6:15pm – 7:15pm \n$60 per session or $200 for all (4) sessions \n  \nMen’s Schedule: \n• • • • • • • • • • • • • • • •  \nWeek #1 – March 27th \nWeek #2 – April 3rd \nWeek #3 – April 10th \nWeek #4 – April 17th \n  \nLimited to the first 10 members! Click here to sign-up with the Pro Shop.
URL:https://lakemaloneygolf.com/event-schedule/spring-tune-up-clinics-mens/
END:VEVENT
BEGIN:VEVENT
DTSTART;TZID=UTC:20250328T140000
DTEND;TZID=UTC:20250328T150000
DTSTAMP:20260423T091841
CREATED:20250328T173707Z
LAST-MODIFIED:20250328T173707Z
UID:52183-1743170400-1743174000@lakemaloneygolf.com
SUMMARY:Junior Mini Golf Camp
DESCRIPTION:Junior Mini Golf Camps \n• • • • • • • • • • \n\nThis is a great way to start the season off right! The camps \nintend to teach junior golfers the basics. Your son/daughter \n will be introduced to golf etiquette\, rules of the game and  \nbasic instruction on putting\, short game and full swing.  \n\nSaturday\, April 26th \n2:00 – 3:00pm each session \n\n$50 per session or $90 for both sessions \n\nLimited to the first 10 junior golfers! Call today to reserve your spot! \nPro Shop: (308) 532-9998 • Kyle: (317) 800-1787
URL:https://lakemaloneygolf.com/event-schedule/junior-mini-golf-camp-2/
END:VEVENT
END:VCALENDAR